BEGIN:VCALENDAR
VERSION:2.0
PRODID:-//Irondale Library - ECPv6.15.10//NONSGML v1.0//EN
CALSCALE:GREGORIAN
METHOD:PUBLISH
X-WR-CALNAME:Irondale Library
X-ORIGINAL-URL:https://www.irondalelibrary.org
X-WR-CALDESC:Events for Irondale Library
REFRESH-INTERVAL;VALUE=DURATION:PT1H
X-Robots-Tag:noindex
X-PUBLISHED-TTL:PT1H
BEGIN:VTIMEZONE
TZID:America/Chicago
BEGIN:DAYLIGHT
TZOFFSETFROM:-0600
TZOFFSETTO:-0500
TZNAME:CDT
DTSTART:20210314T080000
END:DAYLIGHT
BEGIN:STANDARD
TZOFFSETFROM:-0500
TZOFFSETTO:-0600
TZNAME:CST
DTSTART:20211107T070000
END:STANDARD
BEGIN:DAYLIGHT
TZOFFSETFROM:-0600
TZOFFSETTO:-0500
TZNAME:CDT
DTSTART:20220313T080000
END:DAYLIGHT
BEGIN:STANDARD
TZOFFSETFROM:-0500
TZOFFSETTO:-0600
TZNAME:CST
DTSTART:20221106T070000
END:STANDARD
BEGIN:DAYLIGHT
TZOFFSETFROM:-0600
TZOFFSETTO:-0500
TZNAME:CDT
DTSTART:20230312T080000
END:DAYLIGHT
BEGIN:STANDARD
TZOFFSETFROM:-0500
TZOFFSETTO:-0600
TZNAME:CST
DTSTART:20231105T070000
END:STANDARD
BEGIN:DAYLIGHT
TZOFFSETFROM:-0600
TZOFFSETTO:-0500
TZNAME:CDT
DTSTART:20240310T080000
END:DAYLIGHT
BEGIN:STANDARD
TZOFFSETFROM:-0500
TZOFFSETTO:-0600
TZNAME:CST
DTSTART:20241103T070000
END:STANDARD
END:VTIMEZONE
BEGIN:VEVENT
DTSTART;TZID=America/Chicago:20230404T153000
DTEND;TZID=America/Chicago:20230404T163000
DTSTAMP:20260425T061820
CREATED:20230330T184441Z
LAST-MODIFIED:20230330T184441Z
UID:11760-1680622200-1680625800@www.irondalelibrary.org
SUMMARY:Reading Buddies
DESCRIPTION:Practice reading out loud to dogs who love to listen! Volunteers from the Greater Birmingham Humane Society will be here with friendly dogs who love to make new friends.
URL:https://www.irondalelibrary.org/event2/reading-buddies-7/2023-04-04/
END:VEVENT
BEGIN:VEVENT
DTSTART;TZID=America/Chicago:20230330T173000
DTEND;TZID=America/Chicago:20230330T193000
DTSTAMP:20260425T061820
CREATED:20230301T170235Z
LAST-MODIFIED:20230301T170235Z
UID:11733-1680197400-1680204600@www.irondalelibrary.org
SUMMARY:Movie: A Man Called Otto (PG-13)
DESCRIPTION:Come watch A Man Called Otto (PG-13) on the big screen!
URL:https://www.irondalelibrary.org/event2/movie-a-man-called-otto-pg-13/
END:VEVENT
BEGIN:VEVENT
DTSTART;TZID=America/Chicago:20230330T100000
DTEND;TZID=America/Chicago:20230330T114500
DTSTAMP:20260425T061820
CREATED:20230301T170104Z
LAST-MODIFIED:20230301T170104Z
UID:11730-1680170400-1680176700@www.irondalelibrary.org
SUMMARY:Movie: Puss in Boots: The Last Wish (PG)
DESCRIPTION:Come watch Puss in Boots: The Last Wish (PG) on the big screen!
URL:https://www.irondalelibrary.org/event2/movie-puss-in-boots-the-last-wish-pg/2023-03-30/
END:VEVENT
BEGIN:VEVENT
DTSTART;TZID=America/Chicago:20230329T100000
DTEND;TZID=America/Chicago:20230329T110000
DTSTAMP:20260425T061820
CREATED:20230301T165455Z
LAST-MODIFIED:20230301T165455Z
UID:11718-1680084000-1680087600@www.irondalelibrary.org
SUMMARY:History of Hula Hoops
DESCRIPTION:Hoop for Fitness will introduce hula hooping and all it’s fantastic benefits. We’ll learn about Native American hoop dance and hula hooping for artistic flow artists. We’ll see a professional hoop performance\, and volunteer participants will learn hoop dance moves! Designed for all ages\, especially ages 5-13.
URL:https://www.irondalelibrary.org/event2/history-of-hula-hoops/
END:VEVENT
BEGIN:VEVENT
DTSTART;TZID=America/Chicago:20230328T100000
DTEND;TZID=America/Chicago:20230328T103000
DTSTAMP:20260425T061820
CREATED:20230301T165417Z
LAST-MODIFIED:20230301T165417Z
UID:11715-1679997600-1679999400@www.irondalelibrary.org
SUMMARY:Craft Time with Miss Ginny
DESCRIPTION:Kids will make a cute dot-painted dragonfly!
URL:https://www.irondalelibrary.org/event2/craft-time-with-miss-ginny-4/2023-03-28/
END:VEVENT
BEGIN:VEVENT
DTSTART;TZID=America/Chicago:20230327T100000
DTEND;TZID=America/Chicago:20230327T110000
DTSTAMP:20260425T061820
CREATED:20230301T165046Z
LAST-MODIFIED:20230301T165046Z
UID:11710-1679911200-1679914800@www.irondalelibrary.org
SUMMARY:Chalk and Bubbles
DESCRIPTION:Kick off Spring Break with chalk and bubbles with Miss Ginny!
URL:https://www.irondalelibrary.org/event2/chalk-and-bubbles/
END:VEVENT
BEGIN:VEVENT
DTSTART;TZID=America/Chicago:20230323T180000
DTEND;TZID=America/Chicago:20230323T190000
DTSTAMP:20260425T061820
CREATED:20230301T164551Z
LAST-MODIFIED:20230301T164551Z
UID:11708-1679594400-1679598000@www.irondalelibrary.org
SUMMARY:Putting the Movement on the Move: The 1961 Freedom Rides
DESCRIPTION:Eleven years before Mrs. Rosa Parks was arrested for refusing to give her seat to white passengers on a Montgomery city bus\, Ms. Irene Morgan refused to give her seat to white passengers on a Greyhound Bus in Virginia. \nMs. Morgan’s courageous action and brutal arrest led to a landmark ruling by the U.S. Supreme Court declaring it unconstitutional for Greyhound and Trailways buses to segregate passengers. However\, these buses\, planes and trains\, especially in the Deep South continued to operate as segregated. \nThis presentation by the Freedom Rides Museum will examine the Freedom Rides\, a campaign involving 436 Black and white men\, women and youth from 35 states who traveled into the Deep South during the summer of 1961 risking their lives and their freedom to try to bring about an end to these segregated practices. Some were violently attacked and nearly killed while more than 300 were arrested and incarcerated in Mississippi’s infamous Parchman Penitentiary. This presentation will examine the stories and heroism of the Freedom Riders while also detailing the failures of leadership at the local\, state and federal level.
URL:https://www.irondalelibrary.org/event2/putting-the-movement-on-the-move-the-1961-freedom-rides/
END:VEVENT
BEGIN:VEVENT
DTSTART;TZID=America/Chicago:20230316T173000
DTEND;TZID=America/Chicago:20230316T190000
DTSTAMP:20260425T061820
CREATED:20230301T164445Z
LAST-MODIFIED:20230301T164445Z
UID:11706-1678987800-1678993200@www.irondalelibrary.org
SUMMARY:Teen Bad Art Night
DESCRIPTION:Teens (grades 6-12) will compete to make the worst art! Pizza will be provided. Registration is required.
URL:https://www.irondalelibrary.org/event2/teen-bad-art-night/
END:VEVENT
BEGIN:VEVENT
DTSTART;TZID=America/Chicago:20230314T100000
DTEND;TZID=America/Chicago:20230314T103000
DTSTAMP:20260425T061820
CREATED:20230301T165327Z
LAST-MODIFIED:20230301T165327Z
UID:11712-1678788000-1678789800@www.irondalelibrary.org
SUMMARY:Craft Time with Miss Ginny
DESCRIPTION:Kids will paint a rainbow with fluffy clouds!
URL:https://www.irondalelibrary.org/event2/craft-time-with-miss-ginny-3/2023-03-14/
END:VEVENT
BEGIN:VEVENT
DTSTART;TZID=America/Chicago:20230313T140000
DTEND;TZID=America/Chicago:20230313T150000
DTSTAMP:20260425T061820
CREATED:20230301T165904Z
LAST-MODIFIED:20230301T165904Z
UID:11728-1678716000-1678719600@www.irondalelibrary.org
SUMMARY:Book Club
DESCRIPTION:The IPL Book Club meets the second Monday of each month at 2:00 between January and October. Newcomers are always welcome. Limited copies of the upcoming book club book are available at the desk each month. \nThis month\, we’re discussing The Feather Thief by Kirk Wallace Johnson.
URL:https://www.irondalelibrary.org/event2/book-club-12/
END:VEVENT
BEGIN:VEVENT
DTSTART;TZID=America/Chicago:20230307T153000
DTEND;TZID=America/Chicago:20230307T163000
DTSTAMP:20260425T061820
CREATED:20230301T165640Z
LAST-MODIFIED:20230301T165640Z
UID:11725-1678203000-1678206600@www.irondalelibrary.org
SUMMARY:Reading Buddies
DESCRIPTION:Practice reading out loud to dogs who love to listen! Volunteers from the Greater Birmingham Humane Society will be here with friendly dogs who love to make new friends.
URL:https://www.irondalelibrary.org/event2/reading-buddies-6/2023-03-07/
END:VEVENT
BEGIN:VEVENT
DTSTART;TZID=America/Chicago:20230304T110000
DTEND;TZID=America/Chicago:20230304T130000
DTSTAMP:20260425T061820
CREATED:20230301T164345Z
LAST-MODIFIED:20230301T164345Z
UID:11700-1677927600-1677934800@www.irondalelibrary.org
SUMMARY:Beginner Ukelele Series
DESCRIPTION:Music instructor Sandra Girouard is back by popular demand! Learn ukulele basics and become a more confident ukulele player in a four-part series. \nNo experience is required\, and ukuleles will be available to use during the program. \nAges 10 to adult. This program is free\, but registration is required. Register at irondalelibrary.org/ukulele or 205-951-1415.
URL:https://www.irondalelibrary.org/event2/beginner-ukelele-series/2023-03-04/
END:VEVENT
BEGIN:VEVENT
DTSTART;TZID=America/Chicago:20230302T180000
DTEND;TZID=America/Chicago:20230302T190000
DTSTAMP:20260425T061820
CREATED:20230301T165559Z
LAST-MODIFIED:20230301T165559Z
UID:11723-1677780000-1677783600@www.irondalelibrary.org
SUMMARY:Friends Meeting
DESCRIPTION:All are welcome. \nConsider joining the Friends! Meet other book lovers and library lovers that lend support to the library. The Friends of IPL is a 501(c)3 organization that advocates for the library\, volunteers ideas and time for library programs\, and represents the library at community events.
URL:https://www.irondalelibrary.org/event2/friends-meeting-6/
END:VEVENT
BEGIN:VEVENT
DTSTART;TZID=America/Chicago:20230301T100000
DTEND;TZID=America/Chicago:20230301T110000
DTSTAMP:20260425T061820
CREATED:20230301T165532Z
LAST-MODIFIED:20230301T165532Z
UID:11720-1677664800-1677668400@www.irondalelibrary.org
SUMMARY:Story Time
DESCRIPTION:Join Miss Ginny the first and third Wednesday of each month for a fun story and play time geared for children ages 0-4 and their caregivers.
URL:https://www.irondalelibrary.org/event2/story-time-11/2023-03-01/
END:VEVENT
BEGIN:VEVENT
DTSTART;TZID=America/Chicago:20230228T100000
DTEND;TZID=America/Chicago:20230228T110000
DTSTAMP:20260425T061820
CREATED:20230202T194200Z
LAST-MODIFIED:20230202T194200Z
UID:11673-1677578400-1677582000@www.irondalelibrary.org
SUMMARY:Craft Time with Miss Ginny
DESCRIPTION:Kids will make rocket art and learn about astronaut Mae Jemison!
URL:https://www.irondalelibrary.org/event2/craft-time-with-miss-ginny-2/2023-02-28/
END:VEVENT
BEGIN:VEVENT
DTSTART;TZID=America/Chicago:20230218T110000
DTEND;TZID=America/Chicago:20230218T120000
DTSTAMP:20260425T061820
CREATED:20230202T194248Z
LAST-MODIFIED:20230218T164846Z
UID:11676-1676718000-1676721600@www.irondalelibrary.org
SUMMARY:Ukulele for Beginners
DESCRIPTION:Music instructor Sandra Girouard is joining us for a morning of ukuleles in the library! No experience is required\, and ukuleles will be available to use during the program. This free program is recommended for ages 8 to adult. \nRegistration is required. Register at irondalelibrary.org/ukulele or 205-951-1415.
URL:https://www.irondalelibrary.org/event2/ukulele-for-beginners/
END:VEVENT
BEGIN:VEVENT
DTSTART;TZID=America/Chicago:20230214T100000
DTEND;TZID=America/Chicago:20230214T110000
DTSTAMP:20260425T061820
CREATED:20230202T194109Z
LAST-MODIFIED:20230202T194109Z
UID:11670-1676368800-1676372400@www.irondalelibrary.org
SUMMARY:Craft Time with Miss Ginny
DESCRIPTION:Kids will make a cute heart ladybug for Valentine’s Day!
URL:https://www.irondalelibrary.org/event2/craft-time-with-miss-ginny/2023-02-14/
END:VEVENT
BEGIN:VEVENT
DTSTART;TZID=America/Chicago:20230213T140000
DTEND;TZID=America/Chicago:20230213T150000
DTSTAMP:20260425T061820
CREATED:20230202T194538Z
LAST-MODIFIED:20230202T194538Z
UID:11686-1676296800-1676300400@www.irondalelibrary.org
SUMMARY:Book Club: The Last Thing He Told Me by Laura Dave
DESCRIPTION:The IPL Book Club meets the second Monday of each month at 2:00 between January and October. Newcomers are always welcome. Limited copies of the upcoming book club book are available at the desk each month. \nThis month\, we’re discussing The Last Thing He Told Me by Laura Dave
URL:https://www.irondalelibrary.org/event2/book-club-the-last-thing-he-told-me-by-laura-dave/
END:VEVENT
BEGIN:VEVENT
DTSTART;TZID=America/Chicago:20230211T110000
DTEND;TZID=America/Chicago:20230211T140000
DTSTAMP:20260425T061820
CREATED:20230202T193949Z
LAST-MODIFIED:20230202T193949Z
UID:11668-1676113200-1676124000@www.irondalelibrary.org
SUMMARY:Movie: Black Panther: Wakanda Forever
DESCRIPTION:Bring a sack lunch and watch Black Panther: Wakanda Forever on the big screen! \nRated PG-13. Licensed through Swank Movie Licensing USA.
URL:https://www.irondalelibrary.org/event2/movie-black-panther-wakanda-forever/
END:VEVENT
BEGIN:VEVENT
DTSTART;TZID=America/Chicago:20230207T153000
DTEND;TZID=America/Chicago:20230207T163000
DTSTAMP:20260425T061820
CREATED:20230202T194449Z
LAST-MODIFIED:20230202T194449Z
UID:11683-1675783800-1675787400@www.irondalelibrary.org
SUMMARY:Reading Buddies
DESCRIPTION:Practice reading out loud to dogs who love to listen! Volunteers from the Greater Birmingham Humane Society will be here with friendly dogs who love to make new friends.
URL:https://www.irondalelibrary.org/event2/reading-buddies-5/2023-02-07/
END:VEVENT
BEGIN:VEVENT
DTSTART;TZID=America/Chicago:20230202T180000
DTEND;TZID=America/Chicago:20230202T190000
DTSTAMP:20260425T061820
CREATED:20230202T194406Z
LAST-MODIFIED:20230202T194406Z
UID:11681-1675360800-1675364400@www.irondalelibrary.org
SUMMARY:Friends Meeting
DESCRIPTION:All are welcome. \nConsider joining the Friends! Meet other book lovers and library lovers that lend support to the library. The Friends of IPL is a 501 c3 organization that advocates for the library\, volunteers ideas and time for library programs\, and represents the library at community events.
URL:https://www.irondalelibrary.org/event2/friends-meeting-5/
END:VEVENT
BEGIN:VEVENT
DTSTART;TZID=America/Chicago:20230201T100000
DTEND;TZID=America/Chicago:20230201T110000
DTSTAMP:20260425T061820
CREATED:20230202T194332Z
LAST-MODIFIED:20230202T194332Z
UID:11678-1675245600-1675249200@www.irondalelibrary.org
SUMMARY:Storytime
DESCRIPTION:Join Miss Ginny the first and third Wednesday of each month for a fun story and play time geared for children ages 0-4 and their caregivers.
URL:https://www.irondalelibrary.org/event2/storytime/2023-02-01/
END:VEVENT
BEGIN:VEVENT
DTSTART;VALUE=DATE:20230128
DTEND;VALUE=DATE:20230129
DTSTAMP:20260425T061820
CREATED:20230104T165039Z
LAST-MODIFIED:20230104T165039Z
UID:11646-1674864000-1674950399@www.irondalelibrary.org
SUMMARY:Stuffed Animal Sleepover
DESCRIPTION:We’re having a special sleepover just for stuffed animals after the library closes! Children can come any time 9:30-1:00 on Friday\, January 27 or 10:00-2:00 on Saturday\, January 28 to share a bedtime story and activity with their stuffed animal before dropping them off for Saturday night’s sleepover. \nNo humans are allowed at the sleepover\, but everyone can see pictures of the fun on our Facebook and Instagram Saturday night! \nStuffed animals may be picked up any time 9:30-6:00 on Monday\, January 29 or Tuesday\, January 30. Please note that they may not be picked up while the library is closed\, so children should not bring a favorite toy that they might need during the night. \n 
URL:https://www.irondalelibrary.org/event2/stuffed-animal-sleepover-2/
END:VEVENT
BEGIN:VEVENT
DTSTART;TZID=America/Chicago:20230126T180000
DTEND;TZID=America/Chicago:20230126T190000
DTSTAMP:20260425T061820
CREATED:20230104T164947Z
LAST-MODIFIED:20230104T164947Z
UID:11644-1674756000-1674759600@www.irondalelibrary.org
SUMMARY:Community Focus Group at City Hall
DESCRIPTION:Share your ideas as we prepare to build a new library at 1080 Grants Mill Rd.
URL:https://www.irondalelibrary.org/event2/community-focus-group-at-city-hall/
END:VEVENT
BEGIN:VEVENT
DTSTART;TZID=America/Chicago:20230119T180000
DTEND;TZID=America/Chicago:20230119T190000
DTSTAMP:20260425T061820
CREATED:20230104T164908Z
LAST-MODIFIED:20230104T164908Z
UID:11642-1674151200-1674154800@www.irondalelibrary.org
SUMMARY:Simple Seed Bead Bracelets
DESCRIPTION:Enjoy a fun evening of making simple seed bead bracelets! Ages 14-adult. \n 
URL:https://www.irondalelibrary.org/event2/simple-seed-bead-bracelets/
END:VEVENT
BEGIN:VEVENT
DTSTART;TZID=America/Chicago:20230118T100000
DTEND;TZID=America/Chicago:20230118T110000
DTSTAMP:20260425T061820
CREATED:20230104T164809Z
LAST-MODIFIED:20230104T164809Z
UID:11640-1674036000-1674039600@www.irondalelibrary.org
SUMMARY:Story Time
DESCRIPTION:Join us the first and third Wednesday of each month for a fun story and play time geared for children ages 0-4 and their caregivers.
URL:https://www.irondalelibrary.org/event2/story-time-10/
END:VEVENT
BEGIN:VEVENT
DTSTART;VALUE=DATE:20230116
DTEND;VALUE=DATE:20230117
DTSTAMP:20260425T061820
CREATED:20230104T164723Z
LAST-MODIFIED:20230104T164723Z
UID:11638-1673827200-1673913599@www.irondalelibrary.org
SUMMARY:Library Closed - MLK Jr. Day
DESCRIPTION:The library will be closed on Monday\, January 16\, 2023 in observance of Martin Luther King\, Jr. Day.
URL:https://www.irondalelibrary.org/event2/library-closed-mlk-jr-day/
END:VEVENT
BEGIN:VEVENT
DTSTART;TZID=America/Chicago:20230110T153000
DTEND;TZID=America/Chicago:20230110T163000
DTSTAMP:20260425T061820
CREATED:20230104T164616Z
LAST-MODIFIED:20230104T164616Z
UID:11635-1673364600-1673368200@www.irondalelibrary.org
SUMMARY:Reading Buddies
DESCRIPTION:Practice reading out loud to dogs who love to listen! Volunteers from the Greater Birmingham Humane Society will be here with friendly dogs who love to make new friends.
URL:https://www.irondalelibrary.org/event2/reading-buddies-4/2023-01-10/
END:VEVENT
BEGIN:VEVENT
DTSTART;TZID=America/Chicago:20230109T140000
DTEND;TZID=America/Chicago:20230109T150000
DTSTAMP:20260425T061820
CREATED:20230104T164525Z
LAST-MODIFIED:20230104T164525Z
UID:11633-1673272800-1673276400@www.irondalelibrary.org
SUMMARY:Book Club: The Christie Affair by Nina de Gramont
DESCRIPTION:The IPL Book Club meets the second Monday of each month at 2:00 between January and October. Newcomers are always welcome. Limited copies of the upcoming book club book are available at the desk each month. \nThis month\, we’re discussing The Christie Affair by Nina de Gramont.
URL:https://www.irondalelibrary.org/event2/book-club-the-christie-affair-by-nina-de-gramont/
END:VEVENT
BEGIN:VEVENT
DTSTART;VALUE=DATE:20221230
DTEND;VALUE=DATE:20230103
DTSTAMP:20260425T061820
CREATED:20221201T153947Z
LAST-MODIFIED:20221201T153947Z
UID:11615-1672358400-1672703999@www.irondalelibrary.org
SUMMARY:Library closed for New Year's
DESCRIPTION:
URL:https://www.irondalelibrary.org/event2/library-closed-for-new-years/
END:VEVENT
END:VCALENDAR