BEGIN:VCALENDAR
VERSION:2.0
PRODID:-//Irondale Library - ECPv6.15.10//NONSGML v1.0//EN
CALSCALE:GREGORIAN
METHOD:PUBLISH
X-WR-CALNAME:Irondale Library
X-ORIGINAL-URL:https://www.irondalelibrary.org
X-WR-CALDESC:Events for Irondale Library
REFRESH-INTERVAL;VALUE=DURATION:PT1H
X-Robots-Tag:noindex
X-PUBLISHED-TTL:PT1H
BEGIN:VTIMEZONE
TZID:America/Chicago
BEGIN:DAYLIGHT
TZOFFSETFROM:-0600
TZOFFSETTO:-0500
TZNAME:CDT
DTSTART:20130310T080000
END:DAYLIGHT
BEGIN:STANDARD
TZOFFSETFROM:-0500
TZOFFSETTO:-0600
TZNAME:CST
DTSTART:20131103T070000
END:STANDARD
BEGIN:DAYLIGHT
TZOFFSETFROM:-0600
TZOFFSETTO:-0500
TZNAME:CDT
DTSTART:20140309T080000
END:DAYLIGHT
BEGIN:STANDARD
TZOFFSETFROM:-0500
TZOFFSETTO:-0600
TZNAME:CST
DTSTART:20141102T070000
END:STANDARD
BEGIN:DAYLIGHT
TZOFFSETFROM:-0600
TZOFFSETTO:-0500
TZNAME:CDT
DTSTART:20150308T080000
END:DAYLIGHT
BEGIN:STANDARD
TZOFFSETFROM:-0500
TZOFFSETTO:-0600
TZNAME:CST
DTSTART:20151101T070000
END:STANDARD
END:VTIMEZONE
BEGIN:VEVENT
DTSTART;TZID=America/Chicago:20140818T180000
DTEND;TZID=America/Chicago:20140818T200000
DTSTAMP:20260422T100540
CREATED:20140810T050000Z
LAST-MODIFIED:20140810T050000Z
UID:6577-1408384800-1408392000@www.irondalelibrary.org
SUMMARY:Irondale CDA Monthly Meeting
DESCRIPTION:The Irondale Commercial Development Authority will hold their monthly meeting on August 18\, 2014 at the Grants Mill Station\, Police Sub-Station. åÊThe meeting will start at 6PM and is open to the public.
URL:https://www.irondalelibrary.org/event2/irondale-cda-monthly-meeting/
LOCATION:Police Sub Station
ATTACH;FMTTYPE=image/jpeg:https://www.irondalelibrary.org/wp-content/uploads/cda.jpg
END:VEVENT
BEGIN:VEVENT
DTSTART;TZID=America/Chicago:20140721T180000
DTEND;TZID=America/Chicago:20140721T200000
DTSTAMP:20260422T100540
CREATED:20140531T050000Z
LAST-MODIFIED:20140531T050000Z
UID:6524-1405965600-1405972800@www.irondalelibrary.org
SUMMARY:CDA Monthly Meeting
DESCRIPTION:The Irondale Commercial Development Authority (CDA) meets every third Monday of the month. The meetings are open to the public and are normally held at the Police Sub Station at The Station at Grants Mill. For more information about the Irondale CDA please visit their website atåÊhttp://www.irondalecda.com/åÊ.
URL:https://www.irondalelibrary.org/event2/cda-monthly-meeting-2/
LOCATION:Police Sub Station
END:VEVENT
END:VCALENDAR