BEGIN:VCALENDAR
VERSION:2.0
PRODID:-//Irondale Library - ECPv6.15.10//NONSGML v1.0//EN
CALSCALE:GREGORIAN
METHOD:PUBLISH
X-WR-CALNAME:Irondale Library
X-ORIGINAL-URL:https://www.irondalelibrary.org
X-WR-CALDESC:Events for Irondale Library
REFRESH-INTERVAL;VALUE=DURATION:PT1H
X-Robots-Tag:noindex
X-PUBLISHED-TTL:PT1H
BEGIN:VTIMEZONE
TZID:America/Chicago
BEGIN:DAYLIGHT
TZOFFSETFROM:-0600
TZOFFSETTO:-0500
TZNAME:CDT
DTSTART:20140309T080000
END:DAYLIGHT
BEGIN:STANDARD
TZOFFSETFROM:-0500
TZOFFSETTO:-0600
TZNAME:CST
DTSTART:20141102T070000
END:STANDARD
BEGIN:DAYLIGHT
TZOFFSETFROM:-0600
TZOFFSETTO:-0500
TZNAME:CDT
DTSTART:20150308T080000
END:DAYLIGHT
BEGIN:STANDARD
TZOFFSETFROM:-0500
TZOFFSETTO:-0600
TZNAME:CST
DTSTART:20151101T070000
END:STANDARD
BEGIN:DAYLIGHT
TZOFFSETFROM:-0600
TZOFFSETTO:-0500
TZNAME:CDT
DTSTART:20160313T080000
END:DAYLIGHT
BEGIN:STANDARD
TZOFFSETFROM:-0500
TZOFFSETTO:-0600
TZNAME:CST
DTSTART:20161106T070000
END:STANDARD
BEGIN:DAYLIGHT
TZOFFSETFROM:-0600
TZOFFSETTO:-0500
TZNAME:CDT
DTSTART:20170312T080000
END:DAYLIGHT
BEGIN:STANDARD
TZOFFSETFROM:-0500
TZOFFSETTO:-0600
TZNAME:CST
DTSTART:20171105T070000
END:STANDARD
BEGIN:DAYLIGHT
TZOFFSETFROM:-0600
TZOFFSETTO:-0500
TZNAME:CDT
DTSTART:20180311T080000
END:DAYLIGHT
BEGIN:STANDARD
TZOFFSETFROM:-0500
TZOFFSETTO:-0600
TZNAME:CST
DTSTART:20181104T070000
END:STANDARD
END:VTIMEZONE
BEGIN:VEVENT
DTSTART;TZID=America/Chicago:20150831T171500
DTEND;TZID=America/Chicago:20150831T190000
DTSTAMP:20260422T171250
CREATED:20150831T050000Z
LAST-MODIFIED:20150831T050000Z
UID:6888-1441041300-1441047600@www.irondalelibrary.org
SUMMARY:Irondale City Council - Finance Committee Meeting
DESCRIPTION:The Irondale City Council – Finance Committee will hold a regular meeting at 5:15 PM on August 31\, 2015. åÊThe meeting will take place at Irondale City Hall and will be chaired by Councilor Craig Sanderson.
URL:https://www.irondalelibrary.org/event2/irondale-city-council-finance-committee-meeting-9/
LOCATION:Irondale City Hall\, 101 20th Street South\, Irondale\, AL\, 35210\, United States
ATTACH;FMTTYPE=image/jpeg:https://www.irondalelibrary.org/wp-content/uploads/City-of-Irondale-LOGO11.jpg
GEO:33.5382825;-86.7066164
X-APPLE-STRUCTURED-LOCATION;VALUE=URI;X-ADDRESS=Irondale City Hall 101 20th Street South Irondale AL 35210 United States;X-APPLE-RADIUS=500;X-TITLE=101 20th Street South:geo:-86.7066164,33.5382825
END:VEVENT
BEGIN:VEVENT
DTSTART;TZID=America/Chicago:20170328T173000
DTEND;TZID=America/Chicago:20170328T190000
DTSTAMP:20260422T171250
CREATED:20170325T050000Z
LAST-MODIFIED:20170325T050000Z
UID:7687-1490722200-1490727600@www.irondalelibrary.org
SUMMARY:Irondale City Council Work Session
DESCRIPTION:The Irondale City Council has scheduled a work session for Tuesday\, March 28\, 2017 at 5:30 p.m.æ This work session will be held at the Irondale City Hall 101 20th Street South\, Irondale AL 35210. \nThe purpose of the meeting is to hear updatesæfrom the City Engineeræabout the Grants Mill North Road Project and also the Quiet Zone in downtown Irondale.
URL:https://www.irondalelibrary.org/event2/irondale-city-council-work-session-19/
LOCATION:Irondale City Hall\, 101 20th Street South\, Irondale\, AL\, 35210\, United States
ATTACH;FMTTYPE=image/jpeg:https://www.irondalelibrary.org/wp-content/uploads/meeting2.jpg
GEO:33.5382825;-86.7066164
X-APPLE-STRUCTURED-LOCATION;VALUE=URI;X-ADDRESS=Irondale City Hall 101 20th Street South Irondale AL 35210 United States;X-APPLE-RADIUS=500;X-TITLE=101 20th Street South:geo:-86.7066164,33.5382825
END:VEVENT
BEGIN:VEVENT
DTSTART;TZID=America/Chicago:20170215T173000
DTEND;TZID=America/Chicago:20170215T190000
DTSTAMP:20260422T171250
CREATED:20170215T060000Z
LAST-MODIFIED:20170215T060000Z
UID:7648-1487179800-1487185200@www.irondalelibrary.org
SUMMARY:Irondale City Council - Parks Committee Meeting
DESCRIPTION:The Irondale City Council – Parks Committee will hold a meeting on Wednesday\, February 15\, 2017 at 5:30 PM. æThe meeting will be held at Irondale City Hall and will be chaired by Irondale City Councilor\, John London. \nThis and all Irondale City Council committee meetings are open to the public.
URL:https://www.irondalelibrary.org/event2/irondale-city-council-parks-committee-meeting-3/
LOCATION:Irondale City Hall\, 101 20th Street South\, Irondale\, AL\, 35210\, United States
ATTACH;FMTTYPE=image/jpeg:https://www.irondalelibrary.org/wp-content/uploads/blkfampark.jpg
GEO:33.5382825;-86.7066164
X-APPLE-STRUCTURED-LOCATION;VALUE=URI;X-ADDRESS=Irondale City Hall 101 20th Street South Irondale AL 35210 United States;X-APPLE-RADIUS=500;X-TITLE=101 20th Street South:geo:-86.7066164,33.5382825
END:VEVENT
BEGIN:VEVENT
DTSTART;TZID=America/Chicago:20170123T153000
DTEND;TZID=America/Chicago:20170123T170000
DTSTAMP:20260422T171250
CREATED:20170121T060000Z
LAST-MODIFIED:20170121T060000Z
UID:7570-1485185400-1485190800@www.irondalelibrary.org
SUMMARY:Irondale City Council - Special Meeting
DESCRIPTION:The Irondale City Council will hold a Special City Council Meeting on Monday\, January 23\, 2017 at 3:30 PM at Irondale City Hall. \nThe agenda for the special meeting is as follows: \n  \nMEETING AGENDA \nJanuary 23\, 2017 \nCity of Irondale \nCity Council Special Meeting 3:30 p.m. \næ \n\nInvocation and Pledgeæ\nCall to Orderæ\nRoll Callæ\nApproval of the Agendaæ\nDeliberation of Agenda Items Onlyæ\nNew Businessæ\n\nResolved\, That Resolution 2017-R-06 approves a settlement with Farris Harden & Associates Inc. (Mayor)\n\n\næPublic Comments to the Councilæ\nAdjournment
URL:https://www.irondalelibrary.org/event2/irondale-city-council-special-meeting-3/
LOCATION:Irondale City Hall\, 101 20th Street South\, Irondale\, AL\, 35210\, United States
ATTACH;FMTTYPE=image/jpeg:https://www.irondalelibrary.org/wp-content/uploads/download-2-1.jpg
GEO:33.5382825;-86.7066164
X-APPLE-STRUCTURED-LOCATION;VALUE=URI;X-ADDRESS=Irondale City Hall 101 20th Street South Irondale AL 35210 United States;X-APPLE-RADIUS=500;X-TITLE=101 20th Street South:geo:-86.7066164,33.5382825
END:VEVENT
BEGIN:VEVENT
DTSTART;TZID=America/Chicago:20160718T173000
DTEND;TZID=America/Chicago:20160718T190000
DTSTAMP:20260422T171250
CREATED:20160718T050000Z
LAST-MODIFIED:20160718T050000Z
UID:7155-1468863000-1468868400@www.irondalelibrary.org
SUMMARY:Irondale City Council - Work Session
DESCRIPTION:The Irondale City Council will hold a work session on Monday\, July 18\, 2016 at 5:30 PM\, in Irondale City Hall. \nTopics of discussion for this meeting include: \n\nIncentives for a prospective business with plans of relocating to Irondale\nProposed rezoning for new investors who recently purchased the current Rime Gardens Inn property\n\nThis meeting is open to the public and all Irondale citizens are encouraged to attend.
URL:https://www.irondalelibrary.org/event2/irondale-city-council-work-session-14/
LOCATION:Irondale City Hall\, 101 20th Street South\, Irondale\, AL\, 35210\, United States
ATTACH;FMTTYPE=image/jpeg:https://www.irondalelibrary.org/wp-content/uploads/Irondale-City-Council_0007.jpg
GEO:33.5382825;-86.7066164
X-APPLE-STRUCTURED-LOCATION;VALUE=URI;X-ADDRESS=Irondale City Hall 101 20th Street South Irondale AL 35210 United States;X-APPLE-RADIUS=500;X-TITLE=101 20th Street South:geo:-86.7066164,33.5382825
END:VEVENT
BEGIN:VEVENT
DTSTART;TZID=America/Chicago:20150820T173000
DTEND;TZID=America/Chicago:20150820T190000
DTSTAMP:20260422T171250
CREATED:20150820T050000Z
LAST-MODIFIED:20150820T050000Z
UID:6886-1440091800-1440097200@www.irondalelibrary.org
SUMMARY:Irondale City Council - Finance Committee Meeting
DESCRIPTION:The Irondale City Council – Finance Committee will hold a regular meeting on August 20\, 2015 at 5:30PM.åÊ The meeting will take place at Irondale City Hall. \nThe purpose of the meeting is to discuss theåÊupcoming city budget (2015-2016).
URL:https://www.irondalelibrary.org/event2/irondale-city-council-finance-committee-meeting-8/
LOCATION:Irondale City Hall\, 101 20th Street South\, Irondale\, AL\, 35210\, United States
ATTACH;FMTTYPE=image/jpeg:https://www.irondalelibrary.org/wp-content/uploads/City-of-Irondale-LOGO1.jpg
GEO:33.5382825;-86.7066164
X-APPLE-STRUCTURED-LOCATION;VALUE=URI;X-ADDRESS=Irondale City Hall 101 20th Street South Irondale AL 35210 United States;X-APPLE-RADIUS=500;X-TITLE=101 20th Street South:geo:-86.7066164,33.5382825
END:VEVENT
BEGIN:VEVENT
DTSTART;TZID=America/Chicago:20160825T190000
DTEND;TZID=America/Chicago:20160825T200000
DTSTAMP:20260422T171250
CREATED:20160825T050000Z
LAST-MODIFIED:20160825T050000Z
UID:7195-1472151600-1472155200@www.irondalelibrary.org
SUMMARY:Irondale Planning & Zoning Meeting
DESCRIPTION:There will be an Irondale Planning and Zoning meeting on 8/25/2016 at 7PM. åÊThe meeting will take place at Irondale City Hall.
URL:https://www.irondalelibrary.org/event2/irondale-planning-zoning-meeting/
LOCATION:Irondale City Hall\, 101 20th Street South\, Irondale\, AL\, 35210\, United States
ATTACH;FMTTYPE=image/jpeg:https://www.irondalelibrary.org/wp-content/uploads/meeting3.jpg
GEO:33.5382825;-86.7066164
X-APPLE-STRUCTURED-LOCATION;VALUE=URI;X-ADDRESS=Irondale City Hall 101 20th Street South Irondale AL 35210 United States;X-APPLE-RADIUS=500;X-TITLE=101 20th Street South:geo:-86.7066164,33.5382825
END:VEVENT
BEGIN:VEVENT
DTSTART;TZID=America/Chicago:20160519T180000
DTEND;TZID=America/Chicago:20160519T190000
DTSTAMP:20260422T171250
CREATED:20160505T050000Z
LAST-MODIFIED:20160505T050000Z
UID:7079-1463680800-1463684400@www.irondalelibrary.org
SUMMARY:Irondale City Council - Work Session
DESCRIPTION:The Irondale City Council will hold a work session on May 19\, 2016 @ 6PM in Irondale City Hall.åÊThe purpose of the meeting is toåÊdiscussåÊpotential candidatesåÊto fillåÊ(2) board vacancies on the Irondale Commercial Development Authority. \nCity CouncilåÊPro-Tem\, Donna Pike will preside over the meeting. \n 
URL:https://www.irondalelibrary.org/event2/irondale-city-council-work-session-12/
LOCATION:Irondale City Hall\, 101 20th Street South\, Irondale\, AL\, 35210\, United States
ATTACH;FMTTYPE=image/jpeg:https://www.irondalelibrary.org/wp-content/uploads/Meeting.jpg
GEO:33.5382825;-86.7066164
X-APPLE-STRUCTURED-LOCATION;VALUE=URI;X-ADDRESS=Irondale City Hall 101 20th Street South Irondale AL 35210 United States;X-APPLE-RADIUS=500;X-TITLE=101 20th Street South:geo:-86.7066164,33.5382825
END:VEVENT
BEGIN:VEVENT
DTSTART;TZID=America/Chicago:20160519T190000
DTEND;TZID=America/Chicago:20160519T200000
DTSTAMP:20260422T171250
CREATED:20160505T050000Z
LAST-MODIFIED:20160505T050000Z
UID:7083-1463684400-1463688000@www.irondalelibrary.org
SUMMARY:Irondale City Council - Park Committee Meeting
DESCRIPTION:The Irondale City Council – Parks & Recreation Committee will meet on May 19\, 2016 at 7PM inåÊIrondale City Hall. \nPark Committee Chairman – John London will preside over the meeting which is open to the public.
URL:https://www.irondalelibrary.org/event2/irondale-city-council-park-committee-meeting-2/
LOCATION:Irondale City Hall\, 101 20th Street South\, Irondale\, AL\, 35210\, United States
ATTACH;FMTTYPE=image/jpeg:https://www.irondalelibrary.org/wp-content/uploads/JOHN-LONDON.jpg
GEO:33.5382825;-86.7066164
X-APPLE-STRUCTURED-LOCATION;VALUE=URI;X-ADDRESS=Irondale City Hall 101 20th Street South Irondale AL 35210 United States;X-APPLE-RADIUS=500;X-TITLE=101 20th Street South:geo:-86.7066164,33.5382825
END:VEVENT
BEGIN:VEVENT
DTSTART;TZID=America/Chicago:20160217T180000
DTEND;TZID=America/Chicago:20160217T190000
DTSTAMP:20260422T171250
CREATED:20160216T060000Z
LAST-MODIFIED:20160216T060000Z
UID:7019-1455732000-1455735600@www.irondalelibrary.org
SUMMARY:Notice of Irondale City Council Work Session
DESCRIPTION:The Irondale City Council has scheduled a work session for Wednesday\, February 17\, 2016 at 6:00 p.m. åÊThis work session will be held at the Irondale City Hall\, 101 20th Street South\, Irondale\, AL 35210. \nThe purpose of this meeting is to interview potential appointees to the Irondale Commercial Development Authority.
URL:https://www.irondalelibrary.org/event2/notice-of-irondale-city-council-work-session/
LOCATION:Irondale City Hall\, 101 20th Street South\, Irondale\, AL\, 35210\, United States
ATTACH;FMTTYPE=image/jpeg:https://www.irondalelibrary.org/wp-content/uploads/Irondale-City-City-Council_0049.jpg
GEO:33.5382825;-86.7066164
X-APPLE-STRUCTURED-LOCATION;VALUE=URI;X-ADDRESS=Irondale City Hall 101 20th Street South Irondale AL 35210 United States;X-APPLE-RADIUS=500;X-TITLE=101 20th Street South:geo:-86.7066164,33.5382825
END:VEVENT
BEGIN:VEVENT
DTSTART;TZID=America/Chicago:20160222T180000
DTEND;TZID=America/Chicago:20160222T190000
DTSTAMP:20260422T171250
CREATED:20160216T060000Z
LAST-MODIFIED:20160216T060000Z
UID:7021-1456164000-1456167600@www.irondalelibrary.org
SUMMARY:Notice of Irondale City Council Work Session
DESCRIPTION:The Irondale City Council has scheduled a work session for Monday\, February 22\, 2016 at 6:00 p.m. åÊThis work session will be held at the Irondale City Hall\, 101 20th Street South\, Irondale\, AL 35210. \nThe purpose of this meeting is to interview candidates to be appointed to the Irondale Commercial Development Authority.
URL:https://www.irondalelibrary.org/event2/notice-of-irondale-city-council-work-session-2/
LOCATION:Irondale City Hall\, 101 20th Street South\, Irondale\, AL\, 35210\, United States
ATTACH;FMTTYPE=image/jpeg:https://www.irondalelibrary.org/wp-content/uploads/Irondale-City-Council_0007.jpg
GEO:33.5382825;-86.7066164
X-APPLE-STRUCTURED-LOCATION;VALUE=URI;X-ADDRESS=Irondale City Hall 101 20th Street South Irondale AL 35210 United States;X-APPLE-RADIUS=500;X-TITLE=101 20th Street South:geo:-86.7066164,33.5382825
END:VEVENT
BEGIN:VEVENT
DTSTART;TZID=America/Chicago:20170321T173000
DTEND;TZID=America/Chicago:20170321T180000
DTSTAMP:20260422T171250
CREATED:20170309T060000Z
LAST-MODIFIED:20170309T060000Z
UID:7662-1490117400-1490119200@www.irondalelibrary.org
SUMMARY:Irondale City Council - Finance Committee Meeting
DESCRIPTION:Irondale City Council – Finance CommitteeæChairman\, David Spivey will hold a Finance Committee meetingæon Tuesday\, March 21\, 2017 at 5:30 PM. æThe meeting will take place at Irondale City Hall and is open to the public. \nA review of the City’s current financial status will be discussed.
URL:https://www.irondalelibrary.org/event2/irondale-city-council-finance-committee-meeting-16/
LOCATION:Irondale City Hall\, 101 20th Street South\, Irondale\, AL\, 35210\, United States
ATTACH;FMTTYPE=image/jpeg:https://www.irondalelibrary.org/wp-content/uploads/finance.jpg
GEO:33.5382825;-86.7066164
X-APPLE-STRUCTURED-LOCATION;VALUE=URI;X-ADDRESS=Irondale City Hall 101 20th Street South Irondale AL 35210 United States;X-APPLE-RADIUS=500;X-TITLE=101 20th Street South:geo:-86.7066164,33.5382825
END:VEVENT
BEGIN:VEVENT
DTSTART;VALUE=DATE:20170116
DTEND;VALUE=DATE:20170117
DTSTAMP:20260422T171250
CREATED:20170116T060000Z
LAST-MODIFIED:20170116T060000Z
UID:7364-1484524800-1484611140@www.irondalelibrary.org
SUMMARY:Irondale City Hall Closed For MLK Day
DESCRIPTION:Irondale City Hall will be closed on January 16\, 2017 in honor of Martin Luther King’s Birthday Day Celebration. åÊThere will be no trash and recycling pick up. All city services will resume on Tuesday\, January 17\, 2017.
URL:https://www.irondalelibrary.org/event2/irondale-city-hall-closed-mlk-day/
LOCATION:Irondale City Hall\, 101 20th Street South\, Irondale\, AL\, 35210\, United States
ATTACH;FMTTYPE=image/jpeg:https://www.irondalelibrary.org/wp-content/uploads/download-17.jpg
GEO:33.5382825;-86.7066164
X-APPLE-STRUCTURED-LOCATION;VALUE=URI;X-ADDRESS=Irondale City Hall 101 20th Street South Irondale AL 35210 United States;X-APPLE-RADIUS=500;X-TITLE=101 20th Street South:geo:-86.7066164,33.5382825
END:VEVENT
BEGIN:VEVENT
DTSTART;VALUE=DATE:20161222
DTEND;VALUE=DATE:20161223
DTSTAMP:20260422T171250
CREATED:20161223T060000Z
LAST-MODIFIED:20161223T060000Z
UID:7344-1482364800-1482451140@www.irondalelibrary.org
SUMMARY:Irondale City Closed
DESCRIPTION:As a reminder\, Irondale City Hall will be closed Thursday\, December 22nd and Monday\, December 26th for the Christmas holiday. All services will resume on Tuesday\, December 27th.
URL:https://www.irondalelibrary.org/event2/irondale-city-closed/
LOCATION:Irondale City Hall\, 101 20th Street South\, Irondale\, AL\, 35210\, United States
ATTACH;FMTTYPE=image/jpeg:https://www.irondalelibrary.org/wp-content/uploads/holi2.jpg
GEO:33.5382825;-86.7066164
X-APPLE-STRUCTURED-LOCATION;VALUE=URI;X-ADDRESS=Irondale City Hall 101 20th Street South Irondale AL 35210 United States;X-APPLE-RADIUS=500;X-TITLE=101 20th Street South:geo:-86.7066164,33.5382825
END:VEVENT
BEGIN:VEVENT
DTSTART;VALUE=DATE:20161222
DTEND;VALUE=DATE:20161223
DTSTAMP:20260422T171250
CREATED:20161217T060000Z
LAST-MODIFIED:20161217T060000Z
UID:7337-1482364800-1482451140@www.irondalelibrary.org
SUMMARY:Irondale City Hall Closed
DESCRIPTION:As a reminder\, Irondale City Hall will be closed Thursday\, December 22nd and Monday\, December 26th for the Christmas holiday. All services will resume on Tuesday\, December 27th.
URL:https://www.irondalelibrary.org/event2/irondale-city-hall-closed/
LOCATION:Irondale City Hall\, 101 20th Street South\, Irondale\, AL\, 35210\, United States
ATTACH;FMTTYPE=image/jpeg:https://www.irondalelibrary.org/wp-content/uploads/holidayhours.jpg
GEO:33.5382825;-86.7066164
X-APPLE-STRUCTURED-LOCATION;VALUE=URI;X-ADDRESS=Irondale City Hall 101 20th Street South Irondale AL 35210 United States;X-APPLE-RADIUS=500;X-TITLE=101 20th Street South:geo:-86.7066164,33.5382825
END:VEVENT
BEGIN:VEVENT
DTSTART;VALUE=DATE:20161226
DTEND;VALUE=DATE:20161227
DTSTAMP:20260422T171250
CREATED:20161217T060000Z
LAST-MODIFIED:20161217T060000Z
UID:7339-1482710400-1482796740@www.irondalelibrary.org
SUMMARY:Irondale City Hall Closed
DESCRIPTION:As a reminder\, Irondale City Hall will be closed Thursday\, December 22nd and Monday\, December 26th for the Christmas holiday. All services will resume on Tuesday\, December 27th.
URL:https://www.irondalelibrary.org/event2/irondale-city-hall-closed-2/
LOCATION:Irondale City Hall\, 101 20th Street South\, Irondale\, AL\, 35210\, United States
ATTACH;FMTTYPE=image/jpeg:https://www.irondalelibrary.org/wp-content/uploads/holi2.jpg
GEO:33.5382825;-86.7066164
X-APPLE-STRUCTURED-LOCATION;VALUE=URI;X-ADDRESS=Irondale City Hall 101 20th Street South Irondale AL 35210 United States;X-APPLE-RADIUS=500;X-TITLE=101 20th Street South:geo:-86.7066164,33.5382825
END:VEVENT
BEGIN:VEVENT
DTSTART;TZID=America/Chicago:20160217T190000
DTEND;TZID=America/Chicago:20160217T190000
DTSTAMP:20260422T171250
CREATED:20160216T060000Z
LAST-MODIFIED:20160216T060000Z
UID:7017-1455735600-1455735600@www.irondalelibrary.org
SUMMARY:Irondale City Council Meeting
DESCRIPTION:The Irondale City Council will hold a regular meeting on February 17\, 2016 in Irondale City Hall. åÊThe meeting will start at 7PM and will be preceded by a Pre-Council meeting at 6PM to discuss agenda items.
URL:https://www.irondalelibrary.org/event2/irondale-city-council-meeting-32/
LOCATION:Irondale City Hall\, 101 20th Street South\, Irondale\, AL\, 35210\, United States
ATTACH;FMTTYPE=image/jpeg:https://www.irondalelibrary.org/wp-content/uploads/Irondale-City-City-Council_0055.jpg
GEO:33.5382825;-86.7066164
X-APPLE-STRUCTURED-LOCATION;VALUE=URI;X-ADDRESS=Irondale City Hall 101 20th Street South Irondale AL 35210 United States;X-APPLE-RADIUS=500;X-TITLE=101 20th Street South:geo:-86.7066164,33.5382825
END:VEVENT
END:VCALENDAR