BEGIN:VCALENDAR
VERSION:2.0
PRODID:-//Irondale Library - ECPv6.15.10//NONSGML v1.0//EN
CALSCALE:GREGORIAN
METHOD:PUBLISH
X-WR-CALNAME:Irondale Library
X-ORIGINAL-URL:https://www.irondalelibrary.org
X-WR-CALDESC:Events for Irondale Library
REFRESH-INTERVAL;VALUE=DURATION:PT1H
X-Robots-Tag:noindex
X-PUBLISHED-TTL:PT1H
BEGIN:VTIMEZONE
TZID:America/Chicago
BEGIN:DAYLIGHT
TZOFFSETFROM:-0600
TZOFFSETTO:-0500
TZNAME:CDT
DTSTART:20130310T080000
END:DAYLIGHT
BEGIN:STANDARD
TZOFFSETFROM:-0500
TZOFFSETTO:-0600
TZNAME:CST
DTSTART:20131103T070000
END:STANDARD
BEGIN:DAYLIGHT
TZOFFSETFROM:-0600
TZOFFSETTO:-0500
TZNAME:CDT
DTSTART:20140309T080000
END:DAYLIGHT
BEGIN:STANDARD
TZOFFSETFROM:-0500
TZOFFSETTO:-0600
TZNAME:CST
DTSTART:20141102T070000
END:STANDARD
BEGIN:DAYLIGHT
TZOFFSETFROM:-0600
TZOFFSETTO:-0500
TZNAME:CDT
DTSTART:20150308T080000
END:DAYLIGHT
BEGIN:STANDARD
TZOFFSETFROM:-0500
TZOFFSETTO:-0600
TZNAME:CST
DTSTART:20151101T070000
END:STANDARD
BEGIN:DAYLIGHT
TZOFFSETFROM:-0600
TZOFFSETTO:-0500
TZNAME:CDT
DTSTART:20160313T080000
END:DAYLIGHT
BEGIN:STANDARD
TZOFFSETFROM:-0500
TZOFFSETTO:-0600
TZNAME:CST
DTSTART:20161106T070000
END:STANDARD
BEGIN:DAYLIGHT
TZOFFSETFROM:-0600
TZOFFSETTO:-0500
TZNAME:CDT
DTSTART:20170312T080000
END:DAYLIGHT
BEGIN:STANDARD
TZOFFSETFROM:-0500
TZOFFSETTO:-0600
TZNAME:CST
DTSTART:20171105T070000
END:STANDARD
BEGIN:DAYLIGHT
TZOFFSETFROM:-0600
TZOFFSETTO:-0500
TZNAME:CDT
DTSTART:20180311T080000
END:DAYLIGHT
BEGIN:STANDARD
TZOFFSETFROM:-0500
TZOFFSETTO:-0600
TZNAME:CST
DTSTART:20181104T070000
END:STANDARD
END:VTIMEZONE
BEGIN:VEVENT
DTSTART;TZID=America/Chicago:20170516T080000
DTEND;TZID=America/Chicago:20170516T170000
DTSTAMP:20260425T061245
CREATED:20170503T050000Z
LAST-MODIFIED:20170503T050000Z
UID:7729-1494921600-1494954000@www.irondalelibrary.org
SUMMARY:Irondale Chamber Classic
DESCRIPTION:The Greater Irondale Chamber of Commerce is excited to host a golf tournament\, the Irondale Chamber Classic 2017\, presented byæTower Homes\, on Tuesday\, May 16\, at Irondale’s beautifulæPine Tree Country Club.\n\nHurry!æ The deadline for participant registration and sponsor donations is TODAY\, May 1! \n\nFor all the details and a registration form\,æclick here. ContactæTellis Shoemakeræ(205-956-3104) if you have any questions.
URL:https://www.irondalelibrary.org/event2/irondale-chamber-classic/
LOCATION:Pine Tree Country Club\, 5100 Whispers Dr.;\, AL 35210\, Irondale\, AL\, 35210\, United States
ATTACH;FMTTYPE=image/jpeg:https://www.irondalelibrary.org/wp-content/uploads/download-18.jpg
GEO:33.528661;-86.6553519
X-APPLE-STRUCTURED-LOCATION;VALUE=URI;X-ADDRESS=Pine Tree Country Club 5100 Whispers Dr.; AL 35210 Irondale AL 35210 United States;X-APPLE-RADIUS=500;X-TITLE=5100 Whispers Dr.;\, AL 35210:geo:-86.6553519,33.528661
END:VEVENT
BEGIN:VEVENT
DTSTART;TZID=America/Chicago:20150423T080000
DTEND;TZID=America/Chicago:20150423T170000
DTSTAMP:20260425T061245
CREATED:20150324T050000Z
LAST-MODIFIED:20150324T050000Z
UID:6782-1429776000-1429808400@www.irondalelibrary.org
SUMMARY:19th Annual JCA Golf Invitational
DESCRIPTION:Jefferson Christian Academy (JCA) will sponsor its 19th Annual Golf Invitational at Castle Pine Country Club onåÊThursday\, April 23\, with a shot gun start at 8:00 AM. \nDownload the event’s brochure here\, which includes a registration form\, as well as information about sponsorships and prizes!åÊ Proceeds from the Invitational will benefit the students attending JCA.
URL:https://www.irondalelibrary.org/event2/19th-annual-jca-golf-invitational/
LOCATION:Pine Tree Country Club\, 5100 Whispers Dr.;\, AL 35210\, Irondale\, AL\, 35210\, United States
ATTACH;FMTTYPE=image/jpeg:https://www.irondalelibrary.org/wp-content/uploads/jcagolf.jpg
GEO:33.528661;-86.6553519
X-APPLE-STRUCTURED-LOCATION;VALUE=URI;X-ADDRESS=Pine Tree Country Club 5100 Whispers Dr.; AL 35210 Irondale AL 35210 United States;X-APPLE-RADIUS=500;X-TITLE=5100 Whispers Dr.;\, AL 35210:geo:-86.6553519,33.528661
END:VEVENT
BEGIN:VEVENT
DTSTART;TZID=America/Chicago:20170214T113000
DTEND;TZID=America/Chicago:20170214T140000
DTSTAMP:20260425T061245
CREATED:20170202T060000Z
LAST-MODIFIED:20170202T060000Z
UID:7586-1487071800-1487080800@www.irondalelibrary.org
SUMMARY:ISAC - Valentines Soiree
DESCRIPTION:Irondale Senior Activity Center cordially invites you to our Valentines Soiree at Pine Tree Country Clubæon Tuesday\, February 14th from 11:30 am to 2:00 pm.æTickets are $20.00. Please RSVP by February 10th to Penny at the Center (205) 951-1418. \nPrizes will be provided by ExpectCare æand Right at Home.æ Ray Reach will be on the piano.
URL:https://www.irondalelibrary.org/event2/isac-valentines-soiree/
LOCATION:Pine Tree Country Club\, 5100 Whispers Dr.;\, AL 35210\, Irondale\, AL\, 35210\, United States
ATTACH;FMTTYPE=image/jpeg:https://www.irondalelibrary.org/wp-content/uploads/download-1-2.jpg
GEO:33.528661;-86.6553519
X-APPLE-STRUCTURED-LOCATION;VALUE=URI;X-ADDRESS=Pine Tree Country Club 5100 Whispers Dr.; AL 35210 Irondale AL 35210 United States;X-APPLE-RADIUS=500;X-TITLE=5100 Whispers Dr.;\, AL 35210:geo:-86.6553519,33.528661
END:VEVENT
BEGIN:VEVENT
DTSTART;TZID=America/Chicago:20170713T113000
DTEND;TZID=America/Chicago:20170713T130000
DTSTAMP:20260425T061245
CREATED:20170706T050000Z
LAST-MODIFIED:20170706T050000Z
UID:7777-1499945400-1499950800@www.irondalelibrary.org
SUMMARY:Greater Irondale Chamber of Commerce Luncheon
DESCRIPTION:Irondale Chamber of Commerce\nPlease join the Irondale Chamber for their Luncheon on Thursday\, July 13th from 11:30am – 1pm at Pine Tree Country Club. The guest speakers will be representatives from the Community Foundation of Greater Birmingham and the sponsor is Morningstar Storage. \nRSVP by 2pm\, Wednesday\, July 12\, 2017
URL:https://www.irondalelibrary.org/event2/greater-irondale-chamber-commerce-luncheon-2/
LOCATION:Pine Tree Country Club\, 5100 Whispers Dr.;\, AL 35210\, Irondale\, AL\, 35210\, United States
GEO:33.528661;-86.6553519
X-APPLE-STRUCTURED-LOCATION;VALUE=URI;X-ADDRESS=Pine Tree Country Club 5100 Whispers Dr.; AL 35210 Irondale AL 35210 United States;X-APPLE-RADIUS=500;X-TITLE=5100 Whispers Dr.;\, AL 35210:geo:-86.6553519,33.528661
END:VEVENT
BEGIN:VEVENT
DTSTART;TZID=America/Chicago:20170413T113000
DTEND;TZID=America/Chicago:20170413T130000
DTSTAMP:20260425T061245
CREATED:20170407T050000Z
LAST-MODIFIED:20170407T050000Z
UID:7705-1492083000-1492088400@www.irondalelibrary.org
SUMMARY:April  Chamber Luncheon Features Beth Stewart of Cahaba River Society
DESCRIPTION:The Greater Irondale Chamber of Commerce is pleased to present Beth Stewart\, Executive Director of the Cahaba River Society\, as our guest speaker at the next Membership Luncheon on Thursday\, April 13.\n\nBeth has a Masteräó»s Degree in Landscape Architecture from The University of California\, Berkeley with a focus in urban and environmental planning. She worked in the local government planning and zoning field for 15 years in Birmingham\, New Orleans\, the San Francisco Bay Area\, and the Bluegrass area of Kentucky.\n\nBeth grew up in the Birmingham area and has been Executive Director of the Cahaba River Society since 1995. In addition to leading organizational management and community relations for CRS\, she contributes to the Societyäó»s programs providing policy advocacy\, education\, and collaboration for low impact development\, storm water\, drinking water supplies and efficiency\, and faith-based care of creation.\n\nBeth helped found the Interfaith Environmental Initiative of Alabama\, co-leads the Alabama Urban Stormwater Partnership\, participates in the Alabama Department of Environmental Management (ADEM) Reform Coalition\, and has served on two state task forces for environmental strategic planning.\n\nPlease click here to register for the event.
URL:https://www.irondalelibrary.org/event2/april-irondale-chamber-luncheon-features-beth-stewart-cahaba-river-society/
LOCATION:Pine Tree Country Club\, 5100 Whispers Dr.;\, AL 35210\, Irondale\, AL\, 35210\, United States
ATTACH;FMTTYPE=image/png:https://www.irondalelibrary.org/wp-content/uploads/bethstewart.png
GEO:33.528661;-86.6553519
X-APPLE-STRUCTURED-LOCATION;VALUE=URI;X-ADDRESS=Pine Tree Country Club 5100 Whispers Dr.; AL 35210 Irondale AL 35210 United States;X-APPLE-RADIUS=500;X-TITLE=5100 Whispers Dr.;\, AL 35210:geo:-86.6553519,33.528661
END:VEVENT
BEGIN:VEVENT
DTSTART;TZID=America/Chicago:20161013T113000
DTEND;TZID=America/Chicago:20161013T130000
DTSTAMP:20260425T061245
CREATED:20161006T050000Z
LAST-MODIFIED:20161006T050000Z
UID:7232-1476358200-1476363600@www.irondalelibrary.org
SUMMARY:Irondale Chamber of Commerce - October Luncheon
DESCRIPTION:The Irondale Chamber of Commerce welcomesåÊAmanda Hay\, a 911 dispatcher in Irondale\, to discuss the 911 system\, first responders\, and the importance of making communication a time saver when life depends on every second. \nAmanda earned her Bachelor of Arts degree from the University of Montevallo. Before becoming a public servant\, Amanda says\, she assumed being a 911 operator meant years of training and licensing\, or even a special college degree. In actuality\, 911 operators come from incredibly varied backgrounds. \nIt is her own misconceptions about the 911 operator’s job that give her the desire to build a bridge of understanding between the general public and first responders and to educate the public about the 911 system\, how first responders function\, and how very important easy communication is when a life depends on every minute. \nAt the October luncheon\, Amanda will discuss safety precautions for the home\, your business\, and the community.
URL:https://www.irondalelibrary.org/event2/irondale-chamber-commerce-october-luncheon/
LOCATION:Pine Tree Country Club\, 5100 Whispers Dr.;\, AL 35210\, Irondale\, AL\, 35210\, United States
ATTACH;FMTTYPE=image/png:https://www.irondalelibrary.org/wp-content/uploads/GCC1013.png
GEO:33.528661;-86.6553519
X-APPLE-STRUCTURED-LOCATION;VALUE=URI;X-ADDRESS=Pine Tree Country Club 5100 Whispers Dr.; AL 35210 Irondale AL 35210 United States;X-APPLE-RADIUS=500;X-TITLE=5100 Whispers Dr.;\, AL 35210:geo:-86.6553519,33.528661
END:VEVENT
BEGIN:VEVENT
DTSTART;TZID=America/Chicago:20160414T113000
DTEND;TZID=America/Chicago:20160414T130000
DTSTAMP:20260425T061245
CREATED:20160330T050000Z
LAST-MODIFIED:20160330T050000Z
UID:7055-1460633400-1460638800@www.irondalelibrary.org
SUMMARY:April Irondale Chamber of Commerce - State of the City Luncheon
DESCRIPTION:The Greater Irondale Chamber of Commerce is pleased to present\, at the April membership luncheon\, Irondale Mayor Tommy Joe Alexander and his annual “State of the City” presentation. \nJoin us on Thursday\, April 14 at Pine Tree Country Club for networking\, great food\, and an update on what’s been happening with the City of Irondale in Mayor Alexander’s final official presentation to the Chamber. \nAdmission is $14 for members and $16 for non-members. RSVP here by 2 PM Wednesday\, April 13. If you prefer (or if the link doesn’t work) you’re welcome to email your RSVP. \nOur monthly membership luncheons begin with networking and conversation at 11:30 AM\, followed by a buffet lunch.åÊ The speaker begins shortly after noon\, with Q&A as time permits. \nMembers who wish to distribute information about their businesses or upcoming events are welcome to bring items for the entryway table.
URL:https://www.irondalelibrary.org/event2/april-irondale-chamber-of-commerce-state-of-the-city-luncheon/
LOCATION:Pine Tree Country Club\, 5100 Whispers Dr.;\, AL 35210\, Irondale\, AL\, 35210\, United States
ATTACH;FMTTYPE=image/jpeg:https://www.irondalelibrary.org/wp-content/uploads/10498698_619430841506503_8037683051050980687_o.jpg
GEO:33.528661;-86.6553519
X-APPLE-STRUCTURED-LOCATION;VALUE=URI;X-ADDRESS=Pine Tree Country Club 5100 Whispers Dr.; AL 35210 Irondale AL 35210 United States;X-APPLE-RADIUS=500;X-TITLE=5100 Whispers Dr.;\, AL 35210:geo:-86.6553519,33.528661
END:VEVENT
BEGIN:VEVENT
DTSTART;TZID=America/Chicago:20160114T113000
DTEND;TZID=America/Chicago:20160114T130000
DTSTAMP:20260425T061245
CREATED:20160104T060000Z
LAST-MODIFIED:20160104T060000Z
UID:6977-1452771000-1452776400@www.irondalelibrary.org
SUMMARY:Greater Irondale Chamber of Commerce - January Luncheon
DESCRIPTION:The Greater Irondale Chamber of Commerce is pleased to present Joe Meads\, owner and director of business development for Sain Associates\, which provides engineering services for the City of Irondale. \n \nPlease join us next Thursday\, January 14\, at Pine Tree Country Club for our first membership luncheon of the year – with a delicious meal\, interaction with other area business persons\, and informative presentation from our guest. The luncheon starts at 11:30am and ends at 1PM. \nMake your reservation online here or email us no later than 2 PM on Wednesday\, January 13. Cost for members is $14\, guests is $16.
URL:https://www.irondalelibrary.org/event2/greater-irondale-chamber-of-commerce-january-luncheon/
LOCATION:Pine Tree Country Club\, 5100 Whispers Dr.;\, AL 35210\, Irondale\, AL\, 35210\, United States
ATTACH;FMTTYPE=image/jpeg:https://www.irondalelibrary.org/wp-content/uploads/chambe.jpg
GEO:33.528661;-86.6553519
X-APPLE-STRUCTURED-LOCATION;VALUE=URI;X-ADDRESS=Pine Tree Country Club 5100 Whispers Dr.; AL 35210 Irondale AL 35210 United States;X-APPLE-RADIUS=500;X-TITLE=5100 Whispers Dr.;\, AL 35210:geo:-86.6553519,33.528661
END:VEVENT
BEGIN:VEVENT
DTSTART;TZID=America/Chicago:20150514T113000
DTEND;TZID=America/Chicago:20150514T130000
DTSTAMP:20260425T061245
CREATED:20150505T050000Z
LAST-MODIFIED:20150505T050000Z
UID:6804-1431603000-1431608400@www.irondalelibrary.org
SUMMARY:Chamber of Commerce Luncheon
DESCRIPTION:The Greater Irondale Chamber of Commerce is pleased to welcome Neeysa Biddle\, CEO of St. Vincent’s Health System\, as our guest speaker.\n\n\n\n 
URL:https://www.irondalelibrary.org/event2/chamber-of-commerce-luncheon/
LOCATION:Pine Tree Country Club\, 5100 Whispers Dr.;\, AL 35210\, Irondale\, AL\, 35210\, United States
ATTACH;FMTTYPE=image/jpeg:https://www.irondalelibrary.org/wp-content/uploads/chambe.jpg
GEO:33.528661;-86.6553519
X-APPLE-STRUCTURED-LOCATION;VALUE=URI;X-ADDRESS=Pine Tree Country Club 5100 Whispers Dr.; AL 35210 Irondale AL 35210 United States;X-APPLE-RADIUS=500;X-TITLE=5100 Whispers Dr.;\, AL 35210:geo:-86.6553519,33.528661
END:VEVENT
BEGIN:VEVENT
DTSTART;TZID=America/Chicago:20141113T113000
DTEND;TZID=America/Chicago:20141113T130000
DTSTAMP:20260425T061245
CREATED:20141102T050000Z
LAST-MODIFIED:20141102T050000Z
UID:6687-1415878200-1415883600@www.irondalelibrary.org
SUMMARY:Greater Irondale Chamber of Commerce - Monthly Luncheon
DESCRIPTION:The Greater Irondale Chamber of Commerce presents their monthly luncheonåÊThursday\, November 13\, 11:30 AM – 1:00 PMåÊatåÊPine Tree Country Club.åÊ In the spirit of the giving season\, we are pleased to welcome Sandy Naramore\, Executive Director ofåÊMitchell’s Place.
URL:https://www.irondalelibrary.org/event2/greater-irondale-chamber-commerce-monthly-luncheon/
LOCATION:Pine Tree Country Club\, 5100 Whispers Dr.;\, AL 35210\, Irondale\, AL\, 35210\, United States
ATTACH;FMTTYPE=image/jpeg:https://www.irondalelibrary.org/wp-content/uploads/chambe.jpg
GEO:33.528661;-86.6553519
X-APPLE-STRUCTURED-LOCATION;VALUE=URI;X-ADDRESS=Pine Tree Country Club 5100 Whispers Dr.; AL 35210 Irondale AL 35210 United States;X-APPLE-RADIUS=500;X-TITLE=5100 Whispers Dr.;\, AL 35210:geo:-86.6553519,33.528661
END:VEVENT
BEGIN:VEVENT
DTSTART;TZID=America/Chicago:20140814T113000
DTEND;TZID=America/Chicago:20140814T130000
DTSTAMP:20260425T061245
CREATED:20140806T050000Z
LAST-MODIFIED:20140806T050000Z
UID:6575-1408015800-1408021200@www.irondalelibrary.org
SUMMARY:Chamber of Commerce Luncheon
DESCRIPTION:Please join us! \n \nåÊGreater Irondale Chamber of Commerce \nåÊAuguståÊMembership Meeting \nåÊKeynote Speaker \nDr. Jesse Lewis\, Sr. \nFounder and Publisher\,åÊThe Birmingham Times \nPresident\, The Lewis Group \nThursday\, August 14\, 2014 \nåÊ11:30 am to 1:00 pm \nPine Tree Country Club \n5100 Pine Whispers Drive \nåÊ$14 per person
URL:https://www.irondalelibrary.org/event2/chamber-commerce-luncheon/
LOCATION:Pine Tree Country Club\, 5100 Whispers Dr.;\, AL 35210\, Irondale\, AL\, 35210\, United States
ATTACH;FMTTYPE=image/jpeg:https://www.irondalelibrary.org/wp-content/uploads/chambe.jpg
GEO:33.528661;-86.6553519
X-APPLE-STRUCTURED-LOCATION;VALUE=URI;X-ADDRESS=Pine Tree Country Club 5100 Whispers Dr.; AL 35210 Irondale AL 35210 United States;X-APPLE-RADIUS=500;X-TITLE=5100 Whispers Dr.;\, AL 35210:geo:-86.6553519,33.528661
END:VEVENT
END:VCALENDAR