BEGIN:VCALENDAR
VERSION:2.0
PRODID:-//Irondale Library - ECPv6.15.10//NONSGML v1.0//EN
CALSCALE:GREGORIAN
METHOD:PUBLISH
X-ORIGINAL-URL:https://www.irondalelibrary.org
X-WR-CALDESC:Events for Irondale Library
REFRESH-INTERVAL;VALUE=DURATION:PT1H
X-Robots-Tag:noindex
X-PUBLISHED-TTL:PT1H
BEGIN:VTIMEZONE
TZID:America/Chicago
BEGIN:DAYLIGHT
TZOFFSETFROM:-0600
TZOFFSETTO:-0500
TZNAME:CDT
DTSTART:20130310T080000
END:DAYLIGHT
BEGIN:STANDARD
TZOFFSETFROM:-0500
TZOFFSETTO:-0600
TZNAME:CST
DTSTART:20131103T070000
END:STANDARD
BEGIN:DAYLIGHT
TZOFFSETFROM:-0600
TZOFFSETTO:-0500
TZNAME:CDT
DTSTART:20140309T080000
END:DAYLIGHT
BEGIN:STANDARD
TZOFFSETFROM:-0500
TZOFFSETTO:-0600
TZNAME:CST
DTSTART:20141102T070000
END:STANDARD
BEGIN:DAYLIGHT
TZOFFSETFROM:-0600
TZOFFSETTO:-0500
TZNAME:CDT
DTSTART:20150308T080000
END:DAYLIGHT
BEGIN:STANDARD
TZOFFSETFROM:-0500
TZOFFSETTO:-0600
TZNAME:CST
DTSTART:20151101T070000
END:STANDARD
BEGIN:DAYLIGHT
TZOFFSETFROM:-0600
TZOFFSETTO:-0500
TZNAME:CDT
DTSTART:20160313T080000
END:DAYLIGHT
BEGIN:STANDARD
TZOFFSETFROM:-0500
TZOFFSETTO:-0600
TZNAME:CST
DTSTART:20161106T070000
END:STANDARD
BEGIN:DAYLIGHT
TZOFFSETFROM:-0600
TZOFFSETTO:-0500
TZNAME:CDT
DTSTART:20170312T080000
END:DAYLIGHT
BEGIN:STANDARD
TZOFFSETFROM:-0500
TZOFFSETTO:-0600
TZNAME:CST
DTSTART:20171105T070000
END:STANDARD
BEGIN:DAYLIGHT
TZOFFSETFROM:-0600
TZOFFSETTO:-0500
TZNAME:CDT
DTSTART:20180311T080000
END:DAYLIGHT
BEGIN:STANDARD
TZOFFSETFROM:-0500
TZOFFSETTO:-0600
TZNAME:CST
DTSTART:20181104T070000
END:STANDARD
END:VTIMEZONE
BEGIN:VEVENT
DTSTART;TZID=America/Chicago:20170406T180000
DTEND;TZID=America/Chicago:20170406T200000
DTSTAMP:20260422T054337
CREATED:20170214T060000Z
LAST-MODIFIED:20170906T213301Z
UID:7646-1491501600-1491508800@www.irondalelibrary.org
SUMMARY:IPD Citizens Police Academy
DESCRIPTION:The Irondale Police Academy will hold the next Citizens Police Academy April 6 – May 18\, 2017. æThe Citizens Police Academy is an interactive academy for Irondale citizens who want to learn more about law enforcement. Police officers will provide classroom instruction and hands-on demonstrations. \nClass topics include: \n\nRange Day\nActive Shooter Training\nTour Irondale Police Department and Dispatch\nDetective Investigations\nTactical Demonstration\n\nFor more information click the flyer and application below: \n\ncitizenspolice\n\nTo sign up now to reserve a spot contact: \nSgt. Meadows at 205-789-4890 or email: mmeadows@irondalepolice.org
URL:https://www.irondalelibrary.org/event2/ipd-citizens-police-academy/2017-04-06/
LOCATION:Police Sub Station
ATTACH;FMTTYPE=image/jpeg:https://www.irondalelibrary.org/wp-content/uploads/police1.jpg
END:VEVENT
BEGIN:VEVENT
DTSTART;TZID=America/Chicago:20161208T183000
DTEND;TZID=America/Chicago:20161208T200000
DTSTAMP:20260422T054337
CREATED:20161115T060000Z
LAST-MODIFIED:20161115T060000Z
UID:7298-1481221800-1481227200@www.irondalelibrary.org
SUMMARY:Neighborhood Watch Planning Meeting
DESCRIPTION:The Holiday Gardens Neighborhood Association is sponsoring a Neighborhood Watch Planning Meeting on December 8\, 2016 at 6:30PM. åÊThe meeting will take place at the Irondale Police Sub Station in Grants Mill Station. \n 
URL:https://www.irondalelibrary.org/event2/neighborhood-watch-planning-meeting/
LOCATION:Police Sub Station
ATTACH;FMTTYPE=image/jpeg:https://www.irondalelibrary.org/wp-content/uploads/1977333_691622990879327_604840861552927523_n.jpg
END:VEVENT
BEGIN:VEVENT
DTSTART;TZID=America/Chicago:20150611T180000
DTEND;TZID=America/Chicago:20150611T190000
DTSTAMP:20260422T054337
CREATED:20150605T050000Z
LAST-MODIFIED:20150605T050000Z
UID:6838-1434045600-1434049200@www.irondalelibrary.org
SUMMARY:Irondale On The Move Community Workshop - District 3
DESCRIPTION:Irondale City Councilor\, Craig Sanderson will host a District 3åÊIrondale On The MoveåÊcommunity workshop June 11\, 2015 at 6PM. The purpose of this workshop is to provide Irondale District 3 stakeholders with a platform to discuss the new City of Irondale – Comprehensive Plan. åÊThe community workshop will be held at the Irondale Police – Sub-Station located in Grants Mill Station. \nIrondale City Councilor-District 3 – Craig Sanderson\nThis will be an interactive workshop that provides District 3 community stakeholders (residents\, businesses\, employees of local businesses\, civic/social organizations\, åÊfrequent visitors and others) åÊwith an opportunity to express their concerns\, share their vision for the future of District 3 and interact with their council representative. \nRefreshments will be provided and participants will have an opportunity to win special giveaways and prizes.
URL:https://www.irondalelibrary.org/event2/irondale-on-the-move-community-workshop-district-3/
LOCATION:Police Sub Station
ATTACH;FMTTYPE=image/png:https://www.irondalelibrary.org/wp-content/uploads/slide_on_the_move2.png
END:VEVENT
BEGIN:VEVENT
DTSTART;TZID=America/Chicago:20150324T180000
DTEND;TZID=America/Chicago:20150324T210000
DTSTAMP:20260422T054337
CREATED:20150315T050000Z
LAST-MODIFIED:20150315T050000Z
UID:6771-1427220000-1427230800@www.irondalelibrary.org
SUMMARY:Irondale Economic Development Committee
DESCRIPTION:The City of Irondale Economic Development Committee has scheduled a meeting for Tuesday\, March 24\, 2015 at 6:00 p.m. The meeting will be held at the Irondale Police Substation\, 5415 Beacon Drive Suite 125\, Irondale AL 35210.
URL:https://www.irondalelibrary.org/event2/irondale-economic-development-committee/
LOCATION:Police Sub Station
ATTACH;FMTTYPE=image/jpeg:https://www.irondalelibrary.org/wp-content/uploads/City-of-Irondale-LOGO11.jpg
END:VEVENT
BEGIN:VEVENT
DTSTART;TZID=America/Chicago:20150224T180000
DTEND;TZID=America/Chicago:20150224T200000
DTSTAMP:20260422T054337
CREATED:20150223T060000Z
LAST-MODIFIED:20150223T060000Z
UID:6747-1424800800-1424808000@www.irondalelibrary.org
SUMMARY:City of Irondale - Economic Development Committee
DESCRIPTION:The City of Irondale Economic Development Committee has scheduled a meeting for Tuesday\, February 24th\, 2015 at 6:00 p.m. The meeting will be held at the Irondale Police Substation\, 5415 Beacon Drive Suite 125\, Irondale AL 35210.
URL:https://www.irondalelibrary.org/event2/city-irondale-economic-development-committee/
LOCATION:Police Sub Station
ATTACH;FMTTYPE=image/jpeg:https://www.irondalelibrary.org/wp-content/uploads/City-of-Irondale-LOGO11.jpg
END:VEVENT
BEGIN:VEVENT
DTSTART;TZID=America/Chicago:20140818T180000
DTEND;TZID=America/Chicago:20140818T200000
DTSTAMP:20260422T054337
CREATED:20140810T050000Z
LAST-MODIFIED:20140810T050000Z
UID:6577-1408384800-1408392000@www.irondalelibrary.org
SUMMARY:Irondale CDA Monthly Meeting
DESCRIPTION:The Irondale Commercial Development Authority will hold their monthly meeting on August 18\, 2014 at the Grants Mill Station\, Police Sub-Station. åÊThe meeting will start at 6PM and is open to the public.
URL:https://www.irondalelibrary.org/event2/irondale-cda-monthly-meeting/
LOCATION:Police Sub Station
ATTACH;FMTTYPE=image/jpeg:https://www.irondalelibrary.org/wp-content/uploads/cda.jpg
END:VEVENT
BEGIN:VEVENT
DTSTART;TZID=America/Chicago:20140630T180000
DTEND;TZID=America/Chicago:20140630T200000
DTSTAMP:20260422T054337
CREATED:20140626T050000Z
LAST-MODIFIED:20140626T050000Z
UID:6543-1404151200-1404158400@www.irondalelibrary.org
SUMMARY:Irondale CDA Board Meeting
DESCRIPTION:The Irondale Commercial Development Authority will hold their monthly board meeting on Monday\, June 30th at 6PM. åÊThe meeting will take place at the Police Sub-Station located at The Station at Grants Mill. åÊAn agenda will be posted prior to the meeting.
URL:https://www.irondalelibrary.org/event2/irondale-cda-board-meeting/
LOCATION:Police Sub Station
ATTACH;FMTTYPE=image/jpeg:https://www.irondalelibrary.org/wp-content/uploads/cda.jpg
END:VEVENT
BEGIN:VEVENT
DTSTART;TZID=America/Chicago:20140721T180000
DTEND;TZID=America/Chicago:20140721T200000
DTSTAMP:20260422T054337
CREATED:20140531T050000Z
LAST-MODIFIED:20140531T050000Z
UID:6524-1405965600-1405972800@www.irondalelibrary.org
SUMMARY:CDA Monthly Meeting
DESCRIPTION:The Irondale Commercial Development Authority (CDA) meets every third Monday of the month. The meetings are open to the public and are normally held at the Police Sub Station at The Station at Grants Mill. For more information about the Irondale CDA please visit their website atåÊhttp://www.irondalecda.com/åÊ.
URL:https://www.irondalelibrary.org/event2/cda-monthly-meeting-2/
LOCATION:Police Sub Station
END:VEVENT
BEGIN:VEVENT
DTSTART;TZID=America/Chicago:20150618T180000
DTEND;TZID=America/Chicago:20150618T190000
DTSTAMP:20260422T054337
CREATED:20150612T050000Z
LAST-MODIFIED:20150612T050000Z
UID:6845-1434650400-1434654000@www.irondalelibrary.org
SUMMARY:"IRONDALE ON THE MOVE" COMMUNITY WORKSHOP ÛÒ DISTRICT 4
DESCRIPTION:Irondale City Council President\, Terry Bearden will be the featured guest at the District 4 åÊIrondale On The MoveåÊ Community Workshop to be held on June 18\, 2015 at 6PM. åÊ The eventåÊwill take place at the Irondale Police Sub-Station located in Grants Mill Station Shopping Center. \nThe purpose of this workshop is to enable stakeholders inåÊDistrict 4 an opportunity to learn more about the new City of Irondale ÛÒ Comprehensive Plan. \nThis will be an interactive workshop that provides District 4 community stakeholders (residents\, businesses\, employees of local businesses\, civic/social organizations and anyone with an interest in Irondale) åÊwith a platform to express their concerns\, share their vision for the future of District 4/Irondale and interact with their council representative and other local officials. \nRefreshments will be provided and anyone is welcome to attend.
URL:https://www.irondalelibrary.org/event2/irondale-on-the-move-community-workshop-district-4/
LOCATION:Police Sub Station
ATTACH;FMTTYPE=image/jpeg:https://www.irondalelibrary.org/wp-content/uploads/TERRY-BEARDEN-e1428706916732.jpg
END:VEVENT
BEGIN:VEVENT
DTSTART;TZID=America/Chicago:20140915T180000
DTEND;TZID=America/Chicago:20140915T190000
DTSTAMP:20260422T054337
CREATED:20140908T050000Z
LAST-MODIFIED:20140908T050000Z
UID:6622-1410804000-1410807600@www.irondalelibrary.org
SUMMARY:Irondale CDA Meeting
DESCRIPTION:The Irondale CDA regular monthly meeting will be held on September 15\, 2014 at 6PM. åÊThe meeting will be held at the Police Sub-Station in Grants Mill Station.
URL:https://www.irondalelibrary.org/event2/irondale-cda-meeting/
LOCATION:Police Sub Station
ATTACH;FMTTYPE=image/jpeg:https://www.irondalelibrary.org/wp-content/uploads/cda.jpg
END:VEVENT
END:VCALENDAR